Workbook

Sheet 様式A【①原著】
A1: 学術論文英文業績一覧表【①原著論文】（様式Ａ）
H2: 氏 名：
A4: 論文種別 | B4: 業績目録番号 | C4: 該当論文の候補者情報
A5: ①原著 | B5: No. （様式3の №を記載） | C5: (1)筆頭著者 （F） | D5: (2)第２著者 （S） | E5: (3)最終著者 （L） | F5: (4)その他 〔(1)~(3)以外〕 | G5: (5)責任著者 （C） | H5: インパクト ファクター （IF）※ | I5: ※JCR 最新版（2025年発表） より引用 小数点第1位まで 記載
A6: 合計 | C6: =SUBTOTAL(9,C7:C1000) -> 0 | D6: =SUBTOTAL(9,D7:D1000) -> 0 | E6: =SUBTOTAL(9,E7:E1000) -> 0 | F6: =SUBTOTAL(9,F7:F1000) -> 0 | G6: =SUBTOTAL(9,G7:G1000) -> 0 | H6: =SUBTOTAL(9,H7:H1000) -> 0
B7: 1
B8: 2
B9: 3
B10: 4
B11: 5
B12: 6
B13: 7
B14: 8
B15: 9
B16: 10
B17: 11
B18: 12

Sheet 様式B【②総説、③症例報告、④その他論文】
A1: 学術論文英文業績一覧表【②総説、③症例報告、④その他】（様式Ｂ）
H2: 氏 名：
A4: 論文種別 | B4: 業績目録番号 | C4: 該当論文の候補者情報
A5: ②総説 ③症例報告 ④その他 | B5: No. （様式3の №を記載） | C5: (1)筆頭著者 （F） | D5: (2)第２著者 （S） | E5: (3)最終著者 （L） | F5: (4)その他 〔(1)~(3)以外〕 | G5: (5)責任著者 （C） | H5: インパクト ファクター （IF）※ | I5: ※JCR 最新版（2025年発表） より引用 小数点第1位まで 記載
A6: 合計 | C6: =SUBTOTAL(9,C7:C1000) -> 0 | D6: =SUBTOTAL(9,D7:D1000) -> 0 | E6: =SUBTOTAL(9,E7:E1000) -> 0 | F6: =SUBTOTAL(9,F7:F1000) -> 0 | G6: =SUBTOTAL(9,G7:G1000) -> 0 | H6: =SUBTOTAL(9,H7:H1000) -> 0

Sheet 様式C【著書・学術論文業績集計表】
A1: 著書・学術論文業績集計表（様式Ｃ）
A3: 著 書 | C3: 和文 （件数） | D3: 英文 （件数） | E3: 合計
E4: =C4+D4 -> 0
A6: 学術論文・和文 | C6: ①原著 （件数） | D6: ②総説 （件数） | E6: ③症例報告 （件数） | F6: ④その他 （件数） | G6: 合計
G7: =C7+D7+E7+F7 -> 0
A9: 学術論文・英文 | C9: ①原著（英文） | E9: ②総説（英文） | G9: ③症例報告（英文） | I9: ④その他（英文） | K9: 合計 ①～④
C10: 件数 | D10: IF | E10: 件数 | F10: IF | G10: 件数 | H10: IF | I10: 件数 | J10: IF | K10: 件数 | L10: IF
A11: IFあり | B11: (1)筆頭著者（First Author） ※Co-first authorship（共同第一著者）含む | C11: =COUNTIFS(様式A【①原著】!$H$7:$H$1000,">0",様式A【①原著】!$C$7:$C$1000,"1") -> 0 | D11: =SUMIFS(様式A【①原著】!$H$7:$H$1000,様式A【①原著】!$H$7:$H$1000,">0",様式A【①原著】!$C$7:$C$1000,"1") -> 0 | E11: =COUNTIFS('様式B【②総説、③症例報告、④その他論文】'!$A$7:$A$1000,"②総説",'様式B【②総説、③症例報告、④その他論文】'!$H$7:$H$1000,">0",'様式B【②総説、③症例報告、④その他論文】'!$C$7:$C$1000,"1") -> 0 | F11: =SUMIFS('様式B【②総説、③症例報告、④その他論文】'!$H$7:$H$1000,'様式B【②総説、③症例報告、④その他論文】'!$A$7:$A$1000,"②総説",'様式B【②総説、③症例報告、④その他論文】'!$H$7:$H$1000,">0",'様式B【②総説、③症例報告、④その他論文】'!$C$7:$C$1000,"1") -> 0 | G11: =COUNTIFS('様式B【②総説、③症例報告、④その他論文】'!$A$7:$A$1000,"③症例報告",'様式B【②総説、③症例報告、④その他論文】'!$H$7:$H$1000,">0",'様式B【②総説、③症例報告、④その他論文】'!$C$7:$C$1000,"1") -> 0 | H11: =SUMIFS('様式B【②総説、③症例報告、④その他論文】'!$H$7:$H$1000,'様式B【②総説、③症例報告、④その他論文】'!$A$7:$A$1000,"③症例報告",'様式B【②総説、③症例報告、④その他論文】'!$H$7:$H$1000,">0",'様式B【②総説、③症例報告、④その他論文】'!$C$7:$C$1000,"1") -> 0 | I11: =COUNTIFS('様式B【②総説、③症例報告、④その他論文】'!$A$7:$A$1000,"④その他",'様式B【②総説、③症例報告、④その他論文】'!$H$7:$H$1000,">0",'様式B【②総説、③症例報告、④その他論文】'!$C$7:$C$1000,"1") -> 0 | J11: =SUMIFS('様式B【②総説、③症例報告、④その他論文】'!$H$7:$H$1000,'様式B【②総説、③症例報告、④その他論文】'!$A$7:$A$1000,"④その他",'様式B【②総説、③症例報告、④その他論文】'!$H$7:$H$1000,">0",'様式B【②総説、③症例報告、④その他論文】'!$C$7:$C$1000,"1") -> 0 | K11: =C11+E11+G11+I11 -> 0 | L11: =D11+F11+H11+J11 -> 0
B12: (2)第２著者（Second Author） | C12: =COUNTIFS(様式A【①原著】!$H$7:$H$1000,">0",様式A【①原著】!$D$7:$D$1000,"1") -> 0 | D12: =SUMIFS(様式A【①原著】!$H$7:$H$1000,様式A【①原著】!$H$7:$H$1000,">0",様式A【①原著】!$D$7:$D$1000,"1") -> 0 | E12: =COUNTIFS('様式B【②総説、③症例報告、④その他論文】'!$A$7:$A$1000,"②総説",'様式B【②総説、③症例報告、④その他論文】'!$H$7:$H$1000,">0",'様式B【②総説、③症例報告、④その他論文】'!$D$7:$D$1000,"1") -> 0 | F12: =SUMIFS('様式B【②総説、③症例報告、④その他論文】'!$H$7:$H$1000,'様式B【②総説、③症例報告、④その他論文】'!$A$7:$A$1000,"②総説",'様式B【②総説、③症例報告、④その他論文】'!$H$7:$H$1000,">0",'様式B【②総説、③症例報告、④その他論文】'!$D$7:$D$1000,"1") -> 0 | G12: =COUNTIFS('様式B【②総説、③症例報告、④その他論文】'!$A$7:$A$1000,"③症例報告",'様式B【②総説、③症例報告、④その他論文】'!$H$7:$H$1000,">0",'様式B【②総説、③症例報告、④その他論文】'!$D$7:$D$1000,"1") -> 0 | H12: =SUMIFS('様式B【②総説、③症例報告、④その他論文】'!$H$7:$H$1000,'様式B【②総説、③症例報告、④その他論文】'!$A$7:$A$1000,"③症例報告",'様式B【②総説、③症例報告、④その他論文】'!$H$7:$H$1000,">0",'様式B【②総説、③症例報告、④その他論文】'!$D$7:$D$1000,"1") -> 0 | I12: =COUNTIFS('様式B【②総説、③症例報告、④その他論文】'!$A$7:$A$1000,"④その他",'様式B【②総説、③症例報告、④その他論文】'!$H$7:$H$1000,">0",'様式B【②総説、③症例報告、④その他論文】'!$D$7:$D$1000,"1") -> 0 | J12: =SUMIFS('様式B【②総説、③症例報告、④その他論文】'!$H$7:$H$1000,'様式B【②総説、③症例報告、④その他論文】'!$A$7:$A$1000,"④その他",'様式B【②総説、③症例報告、④その他論文】'!$H$7:$H$1000,">0",'様式B【②総説、③症例報告、④その他論文】'!$D$7:$D$1000,"1") -> 0 | K12: =C12+E12+G12+I12 -> 0 | L12: =D12+F12+H12+J12 -> 0
B13: (3)最終著者（Last Author） | C13: =COUNTIFS(様式A【①原著】!$H$7:$H$1000,">0",様式A【①原著】!$E$7:$E$1000,"1") -> 0 | D13: =SUMIFS(様式A【①原著】!$H$7:$H$1000,様式A【①原著】!$H$7:$H$1000,">0",様式A【①原著】!$E$7:$E$1000,"1") -> 0 | E13: =COUNTIFS('様式B【②総説、③症例報告、④その他論文】'!$A$7:$A$1000,"②総説",'様式B【②総説、③症例報告、④その他論文】'!$H$7:$H$1000,">0",'様式B【②総説、③症例報告、④その他論文】'!$E$7:$E$1000,"1") -> 0 | F13: =SUMIFS('様式B【②総説、③症例報告、④その他論文】'!$H$7:$H$1000,'様式B【②総説、③症例報告、④その他論文】'!$A$7:$A$1000,"②総説",'様式B【②総説、③症例報告、④その他論文】'!$H$7:$H$1000,">0",'様式B【②総説、③症例報告、④その他論文】'!$E$7:$E$1000,"1") -> 0 | G13: =COUNTIFS('様式B【②総説、③症例報告、④その他論文】'!$A$7:$A$1000,"③症例報告",'様式B【②総説、③症例報告、④その他論文】'!$H$7:$H$1000,">0",'様式B【②総説、③症例報告、④その他論文】'!$E$7:$E$1000,"1") -> 0 | H13: =SUMIFS('様式B【②総説、③症例報告、④その他論文】'!$H$7:$H$1000,'様式B【②総説、③症例報告、④その他論文】'!$A$7:$A$1000,"③症例報告",'様式B【②総説、③症例報告、④その他論文】'!$H$7:$H$1000,">0",'様式B【②総説、③症例報告、④その他論文】'!$E$7:$E$1000,"1") -> 0 | I13: =COUNTIFS('様式B【②総説、③症例報告、④その他論文】'!$A$7:$A$1000,"④その他",'様式B【②総説、③症例報告、④その他論文】'!$H$7:$H$1000,">0",'様式B【②総説、③症例報告、④その他論文】'!$E$7:$E$1000,"1") -> 0 | J13: =SUMIFS('様式B【②総説、③症例報告、④その他論文】'!$H$7:$H$1000,'様式B【②総説、③症例報告、④その他論文】'!$A$7:$A$1000,"④その他",'様式B【②総説、③症例報告、④その他論文】'!$H$7:$H$1000,">0",'様式B【②総説、③症例報告、④その他論文】'!$E$7:$E$1000,"1") -> 0 | K13: =C13+E13+G13+I13 -> 0 | L13: =D13+F13+H13+J13 -> 0
B14: (4)その他〔(1)~(3)以外〕 | C14: =COUNTIFS(様式A【①原著】!$H$7:$H$1000,">0",様式A【①原著】!$F$7:$F$1000,"1") -> 0 | D14: =SUMIFS(様式A【①原著】!$H$7:$H$1000,様式A【①原著】!$H$7:$H$1000,">0",様式A【①原著】!$F$7:$F$1000,"1") -> 0 | E14: =COUNTIFS('様式B【②総説、③症例報告、④その他論文】'!$A$7:$A$1000,"②総説",'様式B【②総説、③症例報告、④その他論文】'!$H$7:$H$1000,">0",'様式B【②総説、③症例報告、④その他論文】'!$F$7:$F$1000,"1") -> 0 | F14: =SUMIFS('様式B【②総説、③症例報告、④その他論文】'!$H$7:$H$1000,'様式B【②総説、③症例報告、④その他論文】'!$A$7:$A$1000,"②総説",'様式B【②総説、③症例報告、④その他論文】'!$H$7:$H$1000,">0",'様式B【②総説、③症例報告、④その他論文】'!$F$7:$F$1000,"1") -> 0 | G14: =COUNTIFS('様式B【②総説、③症例報告、④その他論文】'!$A$7:$A$1000,"③症例報告",'様式B【②総説、③症例報告、④その他論文】'!$H$7:$H$1000,">0",'様式B【②総説、③症例報告、④その他論文】'!$F$7:$F$1000,"1") -> 0 | H14: =SUMIFS('様式B【②総説、③症例報告、④その他論文】'!$H$7:$H$1000,'様式B【②総説、③症例報告、④その他論文】'!$A$7:$A$1000,"③症例報告",'様式B【②総説、③症例報告、④その他論文】'!$H$7:$H$1000,">0",'様式B【②総説、③症例報告、④その他論文】'!$F$7:$F$1000,"1") -> 0 | I14: =COUNTIFS('様式B【②総説、③症例報告、④その他論文】'!$A$7:$A$1000,"④その他",'様式B【②総説、③症例報告、④その他論文】'!$H$7:$H$1000,">0",'様式B【②総説、③症例報告、④その他論文】'!$F$7:$F$1000,"1") -> 0 | J14: =SUMIFS('様式B【②総説、③症例報告、④その他論文】'!$H$7:$H$1000,'様式B【②総説、③症例報告、④その他論文】'!$A$7:$A$1000,"④その他",'様式B【②総説、③症例報告、④その他論文】'!$H$7:$H$1000,">0",'様式B【②総説、③症例報告、④その他論文】'!$F$7:$F$1000,"1") -> 0 | K14: =C14+E14+G14+I14 -> 0 | L14: =D14+F14+H14+J14 -> 0
A15: IFなし | B15: (5)IFなし | C15: =COUNTIF(様式A【①原著】!$H$7:$H$1000,"0") -> 0 | E15: =COUNTIFS('様式B【②総説、③症例報告、④その他論文】'!$A$7:$A$1000,"②総説",'様式B【②総説、③症例報告、④その他論文】'!$H$7:$H$1000,"0") -> 0 | G15: =COUNTIFS('様式B【②総説、③症例報告、④その他論文】'!$A$7:$A$1000,"③症例報告",'様式B【②総説、③症例報告、④その他論文】'!$H$7:$H$1000,"0") -> 0 | I15: =COUNTIFS('様式B【②総説、③症例報告、④その他論文】'!$A$7:$A$1000,"④その他",'様式B【②総説、③症例報告、④その他論文】'!$H$7:$H$1000,"0") -> 0 | K15: =C15+E15+G15+I15 -> 0
B16: 合計 (1)～(5) | C16: =C11+C12+C13+C14+C15 -> 0 | D16: =D11+D12+D13+D14 -> 0 | E16: =E11+E12+E13+E14+E15 -> 0 | F16: =F11+F12+F13+F14 -> 0 | G16: =G11+G12+G13+G14+G15 -> 0 | H16: =H11+H12+H13+H14 -> 0 | I16: =I11+I12+I13+I14+I15 -> 0 | J16: =J11+J12+J13+J14 -> 0 | K16: =K11+K12+K13+K14+K15 -> 0 | L16: =L11+L12+L13+L14 -> 0
B17: 上記(2)～(4)のうち、 責任著者（Corresponding Author）
A18: IFあり | B18: (a)第２著者 | C18: =COUNTIFS(様式A【①原著】!$H$7:$H$1000,">0",様式A【①原著】!$D$7:$D$1000,"1",様式A【①原著】!$G$7:$G$1000,"1") -> 0 | D18: =SUMIFS(様式A【①原著】!$H$7:$H$1000,様式A【①原著】!$H$7:$H$1000,">0",様式A【①原著】!$D$7:$D$1000,"1",様式A【①原著】!$G$7:$G$1000,"1") -> 0 | E18: =COUNTIFS('様式B【②総説、③症例報告、④その他論文】'!$A$7:$A$1000,"②総説",'様式B【②総説、③症例報告、④その他論文】'!$H$7:$H$1000,">0",'様式B【②総説、③症例報告、④その他論文】'!$D$7:$D$1000,"1",'様式B【②総説、③症例報告、④その他論文】'!$G$7:$G$1000,"1") -> 0 | F18: =SUMIFS('様式B【②総説、③症例報告、④その他論文】'!$H$7:$H$1000,'様式B【②総説、③症例報告、④その他論文】'!$A$7:$A$1000,"②総説",'様式B【②総説、③症例報告、④その他論文】'!$H$7:$H$1000,">0",'様式B【②総説、③症例報告、④その他論文】'!$D$7:$D$1000,"1",'様式B【②総説、③症例報告、④その他論文】'!$G$7:$G$1000,"1") -> 0 | G18: =COUNTIFS('様式B【②総説、③症例報告、④その他論文】'!$A$7:$A$1000,"③症例報告",'様式B【②総説、③症例報告、④その他論文】'!$H$7:$H$1000,">0",'様式B【②総説、③症例報告、④その他論文】'!$D$7:$D$1000,"1",'様式B【②総説、③症例報告、④その他論文】'!$G$7:$G$1000,"1") -> 0 | H18: =SUMIFS('様式B【②総説、③症例報告、④その他論文】'!$H$7:$H$1000,'様式B【②総説、③症例報告、④その他論文】'!$A$7:$A$1000,"③症例報告",'様式B【②総説、③症例報告、④その他論文】'!$H$7:$H$1000,">0",'様式B【②総説、③症例報告、④その他論文】'!$D$7:$D$1000,"1",'様式B【②総説、③症例報告、④その他論文】'!$G$7:$G$1000,"1") -> 0 | I18: =COUNTIFS('様式B【②総説、③症例報告、④その他論文】'!$A$7:$A$1000,"④その他",'様式B【②総説、③症例報告、④その他論文】'!$H$7:$H$1000,">0",'様式B【②総説、③症例報告、④その他論文】'!$D$7:$D$1000,"1",'様式B【②総説、③症例報告、④その他論文】'!$G$7:$G$1000,"1") -> 0 | J18: =SUMIFS('様式B【②総説、③症例報告、④その他論文】'!$H$7:$H$1000,'様式B【②総説、③症例報告、④その他論文】'!$A$7:$A$1000,"④その他",'様式B【②総説、③症例報告、④その他論文】'!$H$7:$H$1000,">0",'様式B【②総説、③症例報告、④その他論文】'!$D$7:$D$1000,"1",'様式B【②総説、③症例報告、④その他論文】'!$G$7:$G$1000,"1") -> 0 | K18: =C18+E18+G18+I18 -> 0 | L18: =D18+F18+H18+J18 -> 0
B19: (b)最終著者 | C19: =COUNTIFS(様式A【①原著】!$H$7:$H$1000,">0",様式A【①原著】!$E$7:$E$1000,"1",様式A【①原著】!$G$7:$G$1000,"1") -> 0 | D19: =SUMIFS(様式A【①原著】!$H$7:$H$1000,様式A【①原著】!$H$7:$H$1000,">0",様式A【①原著】!$E$7:$E$1000,"1",様式A【①原著】!$G$7:$G$1000,"1") -> 0 | E19: =COUNTIFS('様式B【②総説、③症例報告、④その他論文】'!$A$7:$A$1000,"②総説",'様式B【②総説、③症例報告、④その他論文】'!$H$7:$H$1000,">0",'様式B【②総説、③症例報告、④その他論文】'!$E$7:$E$1000,"1",'様式B【②総説、③症例報告、④その他論文】'!$G$7:$G$1000,"1") -> 0 | F19: =SUMIFS('様式B【②総説、③症例報告、④その他論文】'!$H$7:$H$1000,'様式B【②総説、③症例報告、④その他論文】'!$A$7:$A$1000,"②総説",'様式B【②総説、③症例報告、④その他論文】'!$H$7:$H$1000,">0",'様式B【②総説、③症例報告、④その他論文】'!$E$7:$E$1000,"1",'様式B【②総説、③症例報告、④その他論文】'!$G$7:$G$1000,"1") -> 0 | G19: =COUNTIFS('様式B【②総説、③症例報告、④その他論文】'!$A$7:$A$1000,"③症例報告",'様式B【②総説、③症例報告、④その他論文】'!$H$7:$H$1000,">0",'様式B【②総説、③症例報告、④その他論文】'!$E$7:$E$1000,"1",'様式B【②総説、③症例報告、④その他論文】'!$G$7:$G$1000,"1") -> 0 | H19: =SUMIFS('様式B【②総説、③症例報告、④その他論文】'!$H$7:$H$1000,'様式B【②総説、③症例報告、④その他論文】'!$A$7:$A$1000,"③症例報告",'様式B【②総説、③症例報告、④その他論文】'!$H$7:$H$1000,">0",'様式B【②総説、③症例報告、④その他論文】'!$E$7:$E$1000,"1",'様式B【②総説、③症例報告、④その他論文】'!$G$7:$G$1000,"1") -> 0 | I19: =COUNTIFS('様式B【②総説、③症例報告、④その他論文】'!$A$7:$A$1000,"④その他",'様式B【②総説、③症例報告、④その他論文】'!$H$7:$H$1000,">0",'様式B【②総説、③症例報告、④その他論文】'!$E$7:$E$1000,"1",'様式B【②総説、③症例報告、④その他論文】'!$G$7:$G$1000,"1") -> 0 | J19: =SUMIFS('様式B【②総説、③症例報告、④その他論文】'!$H$7:$H$1000,'様式B【②総説、③症例報告、④その他論文】'!$A$7:$A$1000,"④その他",'様式B【②総説、③症例報告、④その他論文】'!$H$7:$H$1000,">0",'様式B【②総説、③症例報告、④その他論文】'!$E$7:$E$1000,"1",'様式B【②総説、③症例報告、④その他論文】'!$G$7:$G$1000,"1") -> 0 | K19: =C19+E19+G19+I19 -> 0 | L19: =D19+F19+H19+J19 -> 0
B20: (c)その他 | C20: =COUNTIFS(様式A【①原著】!$H$7:$H$1000,">0",様式A【①原著】!$F$7:$F$1000,"1",様式A【①原著】!$G$7:$G$1000,"1") -> 0 | D20: =SUMIFS(様式A【①原著】!$H$7:$H$1000,様式A【①原著】!$H$7:$H$1000,">0",様式A【①原著】!$F$7:$F$1000,"1",様式A【①原著】!$G$7:$G$1000,"1") -> 0 | E20: =COUNTIFS('様式B【②総説、③症例報告、④その他論文】'!$A$7:$A$1000,"②総説",'様式B【②総説、③症例報告、④その他論文】'!$H$7:$H$1000,">0",'様式B【②総説、③症例報告、④その他論文】'!$F$7:$F$1000,"1",'様式B【②総説、③症例報告、④その他論文】'!$G$7:$G$1000,"1") -> 0 | F20: =SUMIFS('様式B【②総説、③症例報告、④その他論文】'!$H$7:$H$1000,'様式B【②総説、③症例報告、④その他論文】'!$A$7:$A$1000,"②総説",'様式B【②総説、③症例報告、④その他論文】'!$H$7:$H$1000,">0",'様式B【②総説、③症例報告、④その他論文】'!$F$7:$F$1000,"1",'様式B【②総説、③症例報告、④その他論文】'!$G$7:$G$1000,"1") -> 0 | G20: =COUNTIFS('様式B【②総説、③症例報告、④その他論文】'!$A$7:$A$1000,"③症例報告",'様式B【②総説、③症例報告、④その他論文】'!$H$7:$H$1000,">0",'様式B【②総説、③症例報告、④その他論文】'!$F$7:$F$1000,"1",'様式B【②総説、③症例報告、④その他論文】'!$G$7:$G$1000,"1") -> 0 | H20: =SUMIFS('様式B【②総説、③症例報告、④その他論文】'!$H$7:$H$1000,'様式B【②総説、③症例報告、④その他論文】'!$A$7:$A$1000,"③症例報告",'様式B【②総説、③症例報告、④その他論文】'!$H$7:$H$1000,">0",'様式B【②総説、③症例報告、④その他論文】'!$F$7:$F$1000,"1",'様式B【②総説、③症例報告、④その他論文】'!$G$7:$G$1000,"1") -> 0 | I20: =COUNTIFS('様式B【②総説、③症例報告、④その他論文】'!$A$7:$A$1000,"④その他",'様式B【②総説、③症例報告、④その他論文】'!$H$7:$H$1000,">0",'様式B【②総説、③症例報告、④その他論文】'!$F$7:$F$1000,"1",'様式B【②総説、③症例報告、④その他論文】'!$G$7:$G$1000,"1") -> 0 | J20: =SUMIFS('様式B【②総説、③症例報告、④その他論文】'!$H$7:$H$1000,'様式B【②総説、③症例報告、④その他論文】'!$A$7:$A$1000,"④その他",'様式B【②総説、③症例報告、④その他論文】'!$H$7:$H$1000,">0",'様式B【②総説、③症例報告、④その他論文】'!$F$7:$F$1000,"1",'様式B【②総説、③症例報告、④その他論文】'!$G$7:$G$1000,"1") -> 0 | K20: =C20+E20+G20+I20 -> 0 | L20: =D20+F20+H20+J20 -> 0
F22: 上記の表に誤りがないことを確認しました。 | J22: 氏 名：

Sheet (記入例)様式A【①原著】
A1: 学術論文英文業績一覧表【①原著論文】（様式Ａ）
H2: 氏 名： 東医 太郎
A4: 論文種別 | B4: 業績目録番号 | C4: 該当論文の候補者情報
A5: ①原著 | B5: No. （様式3の №を記載） | C5: (1)筆頭著者 （F） | D5: (2)第２著者 （S） | E5: (3)最終著者 （L） | F5: (4)その他 〔(1)~(3)以外〕 | G5: (5)責任著者 （C） | H5: インパクト ファクター （IF）※ | I5: ※JCR 最新版（2025年発表） より引用 小数点第1位まで 記載
A6: 合計 | C6: =SUBTOTAL(9,C7:C1000) -> 1 | D6: =SUBTOTAL(9,D7:D1000) -> 1 | E6: =SUBTOTAL(9,E7:E1000) -> 0 | F6: =SUBTOTAL(9,F7:F1000) -> 1 | G6: =SUBTOTAL(9,G7:G1000) -> 1 | H6: =SUBTOTAL(9,H7:H1000) -> 39.9
B7: 1 | C7: 1 | G7: 1 | H7: 30.1
B8: 2 | D8: 1 | H8: 0
B9: 3 | F9: 1 | H9: 9.8
B10: 4
B11: 5
B12: 6
B13: 7
B14: 8
B15: 9
B16: 10
B17: 11
B18: 12

Sheet (記入例)様式B【②総説、③症例報告、④その他論文】
A1: 学術論文英文業績一覧表【②総説、③症例報告、④その他】（様式Ｂ）
H2: 氏 名： 東医 太郎
A4: 論文種別 | B4: 業績目録番号 | C4: 該当論文の候補者情報
A5: ②総説 ③症例報告 ④その他 | B5: No. （様式3の №を記載） | C5: (1)筆頭著者 （F） | D5: (2)第２著者 （S） | E5: (3)最終著者 （L） | F5: (4)その他 〔(1)~(3)以外〕 | G5: (5)責任著者 （C） | H5: インパクト ファクター （IF）※ | I5: ※JCR 最新版（2025年発表） より引用 小数点第1位まで 記載
A6: 合計 | C6: =SUBTOTAL(9,C7:C1000) -> 4 | D6: =SUBTOTAL(9,D7:D1000) -> 1 | E6: =SUBTOTAL(9,E7:E1000) -> 0 | F6: =SUBTOTAL(9,F7:F1000) -> 1 | G6: =SUBTOTAL(9,G7:G1000) -> 2 | H6: =SUBTOTAL(9,H7:H1000) -> 24.8
A7: ②総説 | B7: 1 | C7: 1 | H7: 10.2
A8: ②総説 | B8: 2 | D8: 1 | G8: 1 | H8: 2.4
A9: ②総説 | B9: 3 | C9: 1 | H9: 0
A10: ③症例報告 | B10: 1 | F10: 1 | H10: 3.6
A11: ③症例報告 | B11: 2 | C11: 1 | G11: 1 | H11: 1.1
A12: ④その他 | B12: 1 | C12: 1 | H12: 7.5

Sheet (記入例)様式C【著書・学術論文業績集計表】
A1: 著書・学術論文業績集計表（(記入例)様式Ｃ）
A3: 著 書 | C3: 和文 （件数） | D3: 英文 （件数） | E3: 合計
E4: =C4+D4 -> 0
A6: 学術論文・和文 | C6: ①原著 （件数） | D6: ②総説 （件数） | E6: ③症例報告 （件数） | F6: ④その他 （件数） | G6: 合計
G7: =C7+D7+E7+F7 -> 0
A9: 学術論文・英文 | C9: ①原著（英文） | E9: ②総説（英文） | G9: ③症例報告（英文） | I9: ④その他（英文） | K9: 合計 ①～④
C10: 件数 | D10: IF | E10: 件数 | F10: IF | G10: 件数 | H10: IF | I10: 件数 | J10: IF | K10: 件数 | L10: IF
A11: IFあり | B11: (1)筆頭著者（First Author） ※Co-first authorship（共同第一著者）含む | C11: =COUNTIFS('(記入例)様式A【①原著】'!$H$7:$H$1000,">0",'(記入例)様式A【①原著】'!$C$7:$C$1000,"1") -> 1 | D11: =SUMIFS('(記入例)様式A【①原著】'!$H$7:$H$1000,'(記入例)様式A【①原著】'!$H$7:$H$1000,">0",'(記入例)様式A【①原著】'!$C$7:$C$1000,"1") -> 30.1 | E11: =COUNTIFS('(記入例)様式B【②総説、③症例報告、④その他論文】'!$A$7:$A$1000,"②総説",'(記入例)様式B【②総説、③症例報告、④その他論文】'!$H$7:$H$1000,">0",'(記入例)様式B【②総説、③症例報告、④その他論文】'!$C$7:$C$1000,"1") -> 1 | F11: =SUMIFS('(記入例)様式B【②総説、③症例報告、④その他論文】'!$H$7:$H$1000,'(記入例)様式B【②総説、③症例報告、④その他論文】'!$A$7:$A$1000,"②総説",'(記入例)様式B【②総説、③症例報告、④その他論文】'!$H$7:$H$1000,">0",'(記入例)様式B【②総説、③症例報告、④その他論文】'!$C$7:$C$1000,"1") -> 10.2 | G11: =COUNTIFS('(記入例)様式B【②総説、③症例報告、④その他論文】'!$A$7:$A$1000,"③症例報告",'(記入例)様式B【②総説、③症例報告、④その他論文】'!$H$7:$H$1000,">0",'(記入例)様式B【②総説、③症例報告、④その他論文】'!$C$7:$C$1000,"1") -> 1 | H11: =SUMIFS('(記入例)様式B【②総説、③症例報告、④その他論文】'!$H$7:$H$1000,'(記入例)様式B【②総説、③症例報告、④その他論文】'!$A$7:$A$1000,"③症例報告",'(記入例)様式B【②総説、③症例報告、④その他論文】'!$H$7:$H$1000,">0",'(記入例)様式B【②総説、③症例報告、④その他論文】'!$C$7:$C$1000,"1") -> 1.1 | I11: =COUNTIFS('(記入例)様式B【②総説、③症例報告、④その他論文】'!$A$7:$A$1000,"④その他",'(記入例)様式B【②総説、③症例報告、④その他論文】'!$H$7:$H$1000,">0",'(記入例)様式B【②総説、③症例報告、④その他論文】'!$C$7:$C$1000,"1") -> 1 | J11: =SUMIFS('(記入例)様式B【②総説、③症例報告、④その他論文】'!$H$7:$H$1000,'(記入例)様式B【②総説、③症例報告、④その他論文】'!$A$7:$A$1000,"④その他",'(記入例)様式B【②総説、③症例報告、④その他論文】'!$H$7:$H$1000,">0",'(記入例)様式B【②総説、③症例報告、④その他論文】'!$C$7:$C$1000,"1") -> 7.5 | K11: =C11+E11+G11+I11 -> 4 | L11: =D11+F11+H11+J11 -> 48.9
B12: (2)第２著者（Second Author） | C12: =COUNTIFS('(記入例)様式A【①原著】'!$H$7:$H$1000,">0",'(記入例)様式A【①原著】'!$D$7:$D$1000,"1") -> 0 | D12: =SUMIFS('(記入例)様式A【①原著】'!$H$7:$H$1000,'(記入例)様式A【①原著】'!$H$7:$H$1000,">0",'(記入例)様式A【①原著】'!$D$7:$D$1000,"1") -> 0 | E12: =COUNTIFS('(記入例)様式B【②総説、③症例報告、④その他論文】'!$A$7:$A$1000,"②総説",'(記入例)様式B【②総説、③症例報告、④その他論文】'!$H$7:$H$1000,">0",'(記入例)様式B【②総説、③症例報告、④その他論文】'!$D$7:$D$1000,"1") -> 1 | F12: =SUMIFS('(記入例)様式B【②総説、③症例報告、④その他論文】'!$H$7:$H$1000,'(記入例)様式B【②総説、③症例報告、④その他論文】'!$A$7:$A$1000,"②総説",'(記入例)様式B【②総説、③症例報告、④その他論文】'!$H$7:$H$1000,">0",'(記入例)様式B【②総説、③症例報告、④その他論文】'!$D$7:$D$1000,"1") -> 2.4 | G12: =COUNTIFS('(記入例)様式B【②総説、③症例報告、④その他論文】'!$A$7:$A$1000,"③症例報告",'(記入例)様式B【②総説、③症例報告、④その他論文】'!$H$7:$H$1000,">0",'(記入例)様式B【②総説、③症例報告、④その他論文】'!$D$7:$D$1000,"1") -> 0 | H12: =SUMIFS('(記入例)様式B【②総説、③症例報告、④その他論文】'!$H$7:$H$1000,'(記入例)様式B【②総説、③症例報告、④その他論文】'!$A$7:$A$1000,"③症例報告",'(記入例)様式B【②総説、③症例報告、④その他論文】'!$H$7:$H$1000,">0",'(記入例)様式B【②総説、③症例報告、④その他論文】'!$D$7:$D$1000,"1") -> 0 | I12: =COUNTIFS('(記入例)様式B【②総説、③症例報告、④その他論文】'!$A$7:$A$1000,"④その他",'(記入例)様式B【②総説、③症例報告、④その他論文】'!$H$7:$H$1000,">0",'(記入例)様式B【②総説、③症例報告、④その他論文】'!$D$7:$D$1000,"1") -> 0 | J12: =SUMIFS('(記入例)様式B【②総説、③症例報告、④その他論文】'!$H$7:$H$1000,'(記入例)様式B【②総説、③症例報告、④その他論文】'!$A$7:$A$1000,"④その他",'(記入例)様式B【②総説、③症例報告、④その他論文】'!$H$7:$H$1000,">0",'(記入例)様式B【②総説、③症例報告、④その他論文】'!$D$7:$D$1000,"1") -> 0 | K12: =C12+E12+G12+I12 -> 1 | L12: =D12+F12+H12+J12 -> 2.4
B13: (3)最終著者（Last Author） | C13: =COUNTIFS('(記入例)様式A【①原著】'!$H$7:$H$1000,">0",'(記入例)様式A【①原著】'!$E$7:$E$1000,"1") -> 0 | D13: =SUMIFS('(記入例)様式A【①原著】'!$H$7:$H$1000,'(記入例)様式A【①原著】'!$H$7:$H$1000,">0",'(記入例)様式A【①原著】'!$E$7:$E$1000,"1") -> 0 | E13: =COUNTIFS('(記入例)様式B【②総説、③症例報告、④その他論文】'!$A$7:$A$1000,"②総説",'(記入例)様式B【②総説、③症例報告、④その他論文】'!$H$7:$H$1000,">0",'(記入例)様式B【②総説、③症例報告、④その他論文】'!$E$7:$E$1000,"1") -> 0 | F13: =SUMIFS('(記入例)様式B【②総説、③症例報告、④その他論文】'!$H$7:$H$1000,'(記入例)様式B【②総説、③症例報告、④その他論文】'!$A$7:$A$1000,"②総説",'(記入例)様式B【②総説、③症例報告、④その他論文】'!$H$7:$H$1000,">0",'(記入例)様式B【②総説、③症例報告、④その他論文】'!$E$7:$E$1000,"1") -> 0 | G13: =COUNTIFS('(記入例)様式B【②総説、③症例報告、④その他論文】'!$A$7:$A$1000,"③症例報告",'(記入例)様式B【②総説、③症例報告、④その他論文】'!$H$7:$H$1000,">0",'(記入例)様式B【②総説、③症例報告、④その他論文】'!$E$7:$E$1000,"1") -> 0 | H13: =SUMIFS('(記入例)様式B【②総説、③症例報告、④その他論文】'!$H$7:$H$1000,'(記入例)様式B【②総説、③症例報告、④その他論文】'!$A$7:$A$1000,"③症例報告",'(記入例)様式B【②総説、③症例報告、④その他論文】'!$H$7:$H$1000,">0",'(記入例)様式B【②総説、③症例報告、④その他論文】'!$E$7:$E$1000,"1") -> 0 | I13: =COUNTIFS('(記入例)様式B【②総説、③症例報告、④その他論文】'!$A$7:$A$1000,"④その他",'(記入例)様式B【②総説、③症例報告、④その他論文】'!$H$7:$H$1000,">0",'(記入例)様式B【②総説、③症例報告、④その他論文】'!$E$7:$E$1000,"1") -> 0 | J13: =SUMIFS('(記入例)様式B【②総説、③症例報告、④その他論文】'!$H$7:$H$1000,'(記入例)様式B【②総説、③症例報告、④その他論文】'!$A$7:$A$1000,"④その他",'(記入例)様式B【②総説、③症例報告、④その他論文】'!$H$7:$H$1000,">0",'(記入例)様式B【②総説、③症例報告、④その他論文】'!$E$7:$E$1000,"1") -> 0 | K13: =C13+E13+G13+I13 -> 0 | L13: =D13+F13+H13+J13 -> 0
B14: (4)その他〔(1)~(3)以外〕 | C14: =COUNTIFS('(記入例)様式A【①原著】'!$H$7:$H$1000,">0",'(記入例)様式A【①原著】'!$F$7:$F$1000,"1") -> 1 | D14: =SUMIFS('(記入例)様式A【①原著】'!$H$7:$H$1000,'(記入例)様式A【①原著】'!$H$7:$H$1000,">0",'(記入例)様式A【①原著】'!$F$7:$F$1000,"1") -> 9.8 | E14: =COUNTIFS('(記入例)様式B【②総説、③症例報告、④その他論文】'!$A$7:$A$1000,"②総説",'(記入例)様式B【②総説、③症例報告、④その他論文】'!$H$7:$H$1000,">0",'(記入例)様式B【②総説、③症例報告、④その他論文】'!$F$7:$F$1000,"1") -> 0 | F14: =SUMIFS('(記入例)様式B【②総説、③症例報告、④その他論文】'!$H$7:$H$1000,'(記入例)様式B【②総説、③症例報告、④その他論文】'!$A$7:$A$1000,"②総説",'(記入例)様式B【②総説、③症例報告、④その他論文】'!$H$7:$H$1000,">0",'(記入例)様式B【②総説、③症例報告、④その他論文】'!$F$7:$F$1000,"1") -> 0 | G14: =COUNTIFS('(記入例)様式B【②総説、③症例報告、④その他論文】'!$A$7:$A$1000,"③症例報告",'(記入例)様式B【②総説、③症例報告、④その他論文】'!$H$7:$H$1000,">0",'(記入例)様式B【②総説、③症例報告、④その他論文】'!$F$7:$F$1000,"1") -> 1 | H14: =SUMIFS('(記入例)様式B【②総説、③症例報告、④その他論文】'!$H$7:$H$1000,'(記入例)様式B【②総説、③症例報告、④その他論文】'!$A$7:$A$1000,"③症例報告",'(記入例)様式B【②総説、③症例報告、④その他論文】'!$H$7:$H$1000,">0",'(記入例)様式B【②総説、③症例報告、④その他論文】'!$F$7:$F$1000,"1") -> 3.6 | I14: =COUNTIFS('(記入例)様式B【②総説、③症例報告、④その他論文】'!$A$7:$A$1000,"④その他",'(記入例)様式B【②総説、③症例報告、④その他論文】'!$H$7:$H$1000,">0",'(記入例)様式B【②総説、③症例報告、④その他論文】'!$F$7:$F$1000,"1") -> 0 | J14: =SUMIFS('(記入例)様式B【②総説、③症例報告、④その他論文】'!$H$7:$H$1000,'(記入例)様式B【②総説、③症例報告、④その他論文】'!$A$7:$A$1000,"④その他",'(記入例)様式B【②総説、③症例報告、④その他論文】'!$H$7:$H$1000,">0",'(記入例)様式B【②総説、③症例報告、④その他論文】'!$F$7:$F$1000,"1") -> 0 | K14: =C14+E14+G14+I14 -> 2 | L14: =D14+F14+H14+J14 -> 13.4
A15: IFなし | B15: (5)IFなし | C15: =COUNTIF('(記入例)様式A【①原著】'!$H$7:$H$1000,"0") -> 1 | E15: =COUNTIFS('(記入例)様式B【②総説、③症例報告、④その他論文】'!$A$7:$A$1000,"②総説",'(記入例)様式B【②総説、③症例報告、④その他論文】'!$H$7:$H$1000,"0") -> 1 | G15: =COUNTIFS('(記入例)様式B【②総説、③症例報告、④その他論文】'!$A$7:$A$1000,"③症例報告",'(記入例)様式B【②総説、③症例報告、④その他論文】'!$H$7:$H$1000,"0") -> 0 | I15: =COUNTIFS('(記入例)様式B【②総説、③症例報告、④その他論文】'!$A$7:$A$1000,"④その他",'(記入例)様式B【②総説、③症例報告、④その他論文】'!$H$7:$H$1000,"0") -> 0 | K15: =C15+E15+G15+I15 -> 2
B16: 合計 (1)～(5) | C16: =C11+C12+C13+C14+C15 -> 3 | D16: =D11+D12+D13+D14 -> 39.9 | E16: =E11+E12+E13+E14+E15 -> 3 | F16: =F11+F12+F13+F14 -> 12.6 | G16: =G11+G12+G13+G14+G15 -> 2 | H16: =H11+H12+H13+H14 -> 4.7 | I16: =I11+I12+I13+I14+I15 -> 1 | J16: =J11+J12+J13+J14 -> 7.5 | K16: =K11+K12+K13+K14+K15 -> 9 | L16: =L11+L12+L13+L14 -> 64.7
B17: 上記(2)～(4)のうち、 責任著者（Corresponding Author）
A18: IFあり | B18: (a)第２著者 | C18: =COUNTIFS('(記入例)様式A【①原著】'!$H$7:$H$1000,">0",'(記入例)様式A【①原著】'!$D$7:$D$1000,"1",'(記入例)様式A【①原著】'!$G$7:$G$1000,"1") -> 0 | D18: =SUMIFS('(記入例)様式A【①原著】'!$H$7:$H$1000,'(記入例)様式A【①原著】'!$H$7:$H$1000,">0",'(記入例)様式A【①原著】'!$D$7:$D$1000,"1",'(記入例)様式A【①原著】'!$G$7:$G$1000,"1") -> 0 | E18: =COUNTIFS('(記入例)様式B【②総説、③症例報告、④その他論文】'!$A$7:$A$1000,"②総説",'(記入例)様式B【②総説、③症例報告、④その他論文】'!$H$7:$H$1000,">0",'(記入例)様式B【②総説、③症例報告、④その他論文】'!$D$7:$D$1000,"1",'(記入例)様式B【②総説、③症例報告、④その他論文】'!$G$7:$G$1000,"1") -> 1 | F18: =SUMIFS('(記入例)様式B【②総説、③症例報告、④その他論文】'!$H$7:$H$1000,'(記入例)様式B【②総説、③症例報告、④その他論文】'!$A$7:$A$1000,"②総説",'(記入例)様式B【②総説、③症例報告、④その他論文】'!$H$7:$H$1000,">0",'(記入例)様式B【②総説、③症例報告、④その他論文】'!$D$7:$D$1000,"1",'(記入例)様式B【②総説、③症例報告、④その他論文】'!$G$7:$G$1000,"1") -> 2.4 | G18: =COUNTIFS('(記入例)様式B【②総説、③症例報告、④その他論文】'!$A$7:$A$1000,"③症例報告",'(記入例)様式B【②総説、③症例報告、④その他論文】'!$H$7:$H$1000,">0",'(記入例)様式B【②総説、③症例報告、④その他論文】'!$D$7:$D$1000,"1",'(記入例)様式B【②総説、③症例報告、④その他論文】'!$G$7:$G$1000,"1") -> 0 | H18: =SUMIFS('(記入例)様式B【②総説、③症例報告、④その他論文】'!$H$7:$H$1000,'(記入例)様式B【②総説、③症例報告、④その他論文】'!$A$7:$A$1000,"③症例報告",'(記入例)様式B【②総説、③症例報告、④その他論文】'!$H$7:$H$1000,">0",'(記入例)様式B【②総説、③症例報告、④その他論文】'!$D$7:$D$1000,"1",'(記入例)様式B【②総説、③症例報告、④その他論文】'!$G$7:$G$1000,"1") -> 0 | I18: =COUNTIFS('(記入例)様式B【②総説、③症例報告、④その他論文】'!$A$7:$A$1000,"④その他",'(記入例)様式B【②総説、③症例報告、④その他論文】'!$H$7:$H$1000,">0",'(記入例)様式B【②総説、③症例報告、④その他論文】'!$D$7:$D$1000,"1",'(記入例)様式B【②総説、③症例報告、④その他論文】'!$G$7:$G$1000,"1") -> 0 | J18: =SUMIFS('(記入例)様式B【②総説、③症例報告、④その他論文】'!$H$7:$H$1000,'(記入例)様式B【②総説、③症例報告、④その他論文】'!$A$7:$A$1000,"④その他",'(記入例)様式B【②総説、③症例報告、④その他論文】'!$H$7:$H$1000,">0",'(記入例)様式B【②総説、③症例報告、④その他論文】'!$D$7:$D$1000,"1",'(記入例)様式B【②総説、③症例報告、④その他論文】'!$G$7:$G$1000,"1") -> 0 | K18: =C18+E18+G18+I18 -> 1 | L18: =D18+F18+H18+J18 -> 2.4
B19: (b)最終著者 | C19: =COUNTIFS('(記入例)様式A【①原著】'!$H$7:$H$1000,">0",'(記入例)様式A【①原著】'!$E$7:$E$1000,"1",'(記入例)様式A【①原著】'!$G$7:$G$1000,"1") -> 0 | D19: =SUMIFS('(記入例)様式A【①原著】'!$H$7:$H$1000,'(記入例)様式A【①原著】'!$H$7:$H$1000,">0",'(記入例)様式A【①原著】'!$E$7:$E$1000,"1",'(記入例)様式A【①原著】'!$G$7:$G$1000,"1") -> 0 | E19: =COUNTIFS('(記入例)様式B【②総説、③症例報告、④その他論文】'!$A$7:$A$1000,"②総説",'(記入例)様式B【②総説、③症例報告、④その他論文】'!$H$7:$H$1000,">0",'(記入例)様式B【②総説、③症例報告、④その他論文】'!$E$7:$E$1000,"1",'(記入例)様式B【②総説、③症例報告、④その他論文】'!$G$7:$G$1000,"1") -> 0 | F19: =SUMIFS('(記入例)様式B【②総説、③症例報告、④その他論文】'!$H$7:$H$1000,'(記入例)様式B【②総説、③症例報告、④その他論文】'!$A$7:$A$1000,"②総説",'(記入例)様式B【②総説、③症例報告、④その他論文】'!$H$7:$H$1000,">0",'(記入例)様式B【②総説、③症例報告、④その他論文】'!$E$7:$E$1000,"1",'(記入例)様式B【②総説、③症例報告、④その他論文】'!$G$7:$G$1000,"1") -> 0 | G19: =COUNTIFS('(記入例)様式B【②総説、③症例報告、④その他論文】'!$A$7:$A$1000,"③症例報告",'(記入例)様式B【②総説、③症例報告、④その他論文】'!$H$7:$H$1000,">0",'(記入例)様式B【②総説、③症例報告、④その他論文】'!$E$7:$E$1000,"1",'(記入例)様式B【②総説、③症例報告、④その他論文】'!$G$7:$G$1000,"1") -> 0 | H19: =SUMIFS('(記入例)様式B【②総説、③症例報告、④その他論文】'!$H$7:$H$1000,'(記入例)様式B【②総説、③症例報告、④その他論文】'!$A$7:$A$1000,"③症例報告",'(記入例)様式B【②総説、③症例報告、④その他論文】'!$H$7:$H$1000,">0",'(記入例)様式B【②総説、③症例報告、④その他論文】'!$E$7:$E$1000,"1",'(記入例)様式B【②総説、③症例報告、④その他論文】'!$G$7:$G$1000,"1") -> 0 | I19: =COUNTIFS('(記入例)様式B【②総説、③症例報告、④その他論文】'!$A$7:$A$1000,"④その他",'(記入例)様式B【②総説、③症例報告、④その他論文】'!$H$7:$H$1000,">0",'(記入例)様式B【②総説、③症例報告、④その他論文】'!$E$7:$E$1000,"1",'(記入例)様式B【②総説、③症例報告、④その他論文】'!$G$7:$G$1000,"1") -> 0 | J19: =SUMIFS('(記入例)様式B【②総説、③症例報告、④その他論文】'!$H$7:$H$1000,'(記入例)様式B【②総説、③症例報告、④その他論文】'!$A$7:$A$1000,"④その他",'(記入例)様式B【②総説、③症例報告、④その他論文】'!$H$7:$H$1000,">0",'(記入例)様式B【②総説、③症例報告、④その他論文】'!$E$7:$E$1000,"1",'(記入例)様式B【②総説、③症例報告、④その他論文】'!$G$7:$G$1000,"1") -> 0 | K19: =C19+E19+G19+I19 -> 0 | L19: =D19+F19+H19+J19 -> 0
B20: (c)その他 | C20: =COUNTIFS('(記入例)様式A【①原著】'!$H$7:$H$1000,">0",'(記入例)様式A【①原著】'!$F$7:$F$1000,"1",'(記入例)様式A【①原著】'!$G$7:$G$1000,"1") -> 0 | D20: =SUMIFS('(記入例)様式A【①原著】'!$H$7:$H$1000,'(記入例)様式A【①原著】'!$H$7:$H$1000,">0",'(記入例)様式A【①原著】'!$F$7:$F$1000,"1",'(記入例)様式A【①原著】'!$G$7:$G$1000,"1") -> 0 | E20: =COUNTIFS('(記入例)様式B【②総説、③症例報告、④その他論文】'!$A$7:$A$1000,"②総説",'(記入例)様式B【②総説、③症例報告、④その他論文】'!$H$7:$H$1000,">0",'(記入例)様式B【②総説、③症例報告、④その他論文】'!$F$7:$F$1000,"1",'(記入例)様式B【②総説、③症例報告、④その他論文】'!$G$7:$G$1000,"1") -> 0 | F20: =SUMIFS('(記入例)様式B【②総説、③症例報告、④その他論文】'!$H$7:$H$1000,'(記入例)様式B【②総説、③症例報告、④その他論文】'!$A$7:$A$1000,"②総説",'(記入例)様式B【②総説、③症例報告、④その他論文】'!$H$7:$H$1000,">0",'(記入例)様式B【②総説、③症例報告、④その他論文】'!$F$7:$F$1000,"1",'(記入例)様式B【②総説、③症例報告、④その他論文】'!$G$7:$G$1000,"1") -> 0 | G20: =COUNTIFS('(記入例)様式B【②総説、③症例報告、④その他論文】'!$A$7:$A$1000,"③症例報告",'(記入例)様式B【②総説、③症例報告、④その他論文】'!$H$7:$H$1000,">0",'(記入例)様式B【②総説、③症例報告、④その他論文】'!$F$7:$F$1000,"1",'(記入例)様式B【②総説、③症例報告、④その他論文】'!$G$7:$G$1000,"1") -> 0 | H20: =SUMIFS('(記入例)様式B【②総説、③症例報告、④その他論文】'!$H$7:$H$1000,'(記入例)様式B【②総説、③症例報告、④その他論文】'!$A$7:$A$1000,"③症例報告",'(記入例)様式B【②総説、③症例報告、④その他論文】'!$H$7:$H$1000,">0",'(記入例)様式B【②総説、③症例報告、④その他論文】'!$F$7:$F$1000,"1",'(記入例)様式B【②総説、③症例報告、④その他論文】'!$G$7:$G$1000,"1") -> 0 | I20: =COUNTIFS('(記入例)様式B【②総説、③症例報告、④その他論文】'!$A$7:$A$1000,"④その他",'(記入例)様式B【②総説、③症例報告、④その他論文】'!$H$7:$H$1000,">0",'(記入例)様式B【②総説、③症例報告、④その他論文】'!$F$7:$F$1000,"1",'(記入例)様式B【②総説、③症例報告、④その他論文】'!$G$7:$G$1000,"1") -> 0 | J20: =SUMIFS('(記入例)様式B【②総説、③症例報告、④その他論文】'!$H$7:$H$1000,'(記入例)様式B【②総説、③症例報告、④その他論文】'!$A$7:$A$1000,"④その他",'(記入例)様式B【②総説、③症例報告、④その他論文】'!$H$7:$H$1000,">0",'(記入例)様式B【②総説、③症例報告、④その他論文】'!$F$7:$F$1000,"1",'(記入例)様式B【②総説、③症例報告、④その他論文】'!$G$7:$G$1000,"1") -> 0 | K20: =C20+E20+G20+I20 -> 0 | L20: =D20+F20+H20+J20 -> 0
F22: 上記の表に誤りがないことを確認しました。 | J22: 氏 名： 東医 太郎

Sheet 原著以外種別
A2: 論文種別
A3: ②総説
A4: ③症例報告
A5: ④その他
